BEGIN:VCALENDAR
VERSION:2.0
PRODID:-//Retired Employees of Alameda County - ECPv6.15.16//NONSGML v1.0//EN
CALSCALE:GREGORIAN
METHOD:PUBLISH
X-WR-CALNAME:Retired Employees of Alameda County
X-ORIGINAL-URL:https://reacsite.org
X-WR-CALDESC:Events for Retired Employees of Alameda County
REFRESH-INTERVAL;VALUE=DURATION:PT1H
X-Robots-Tag:noindex
X-PUBLISHED-TTL:PT1H
BEGIN:VTIMEZONE
TZID:America/Los_Angeles
BEGIN:DAYLIGHT
TZOFFSETFROM:-0800
TZOFFSETTO:-0700
TZNAME:PDT
DTSTART:20280312T100000
END:DAYLIGHT
BEGIN:STANDARD
TZOFFSETFROM:-0700
TZOFFSETTO:-0800
TZNAME:PST
DTSTART:20281105T090000
END:STANDARD
BEGIN:DAYLIGHT
TZOFFSETFROM:-0800
TZOFFSETTO:-0700
TZNAME:PDT
DTSTART:20290311T100000
END:DAYLIGHT
BEGIN:STANDARD
TZOFFSETFROM:-0700
TZOFFSETTO:-0800
TZNAME:PST
DTSTART:20291104T090000
END:STANDARD
BEGIN:DAYLIGHT
TZOFFSETFROM:-0800
TZOFFSETTO:-0700
TZNAME:PDT
DTSTART:20300310T100000
END:DAYLIGHT
BEGIN:STANDARD
TZOFFSETFROM:-0700
TZOFFSETTO:-0800
TZNAME:PST
DTSTART:20301103T090000
END:STANDARD
END:VTIMEZONE
BEGIN:VEVENT
DTSTART;TZID=America/Los_Angeles:20290606T093000
DTEND;TZID=America/Los_Angeles:20290606T130000
DTSTAMP:20260422T042358
CREATED:20240416T000725Z
LAST-MODIFIED:20240725T212858Z
UID:10000419-1875432600-1875445200@reacsite.org
SUMMARY:ACERA Retirees Committee
DESCRIPTION:
URL:https://reacsite.org/event/acera-retirees-committee-5/2029-06-06/
LOCATION:ACERA\, 475 14th Street\, 10th Floor\, Oakland\, CA\, United States
ATTACH;FMTTYPE=image/png:https://reacsite.org/wp-content/uploads/ACERA_Logo.png
END:VEVENT
BEGIN:VEVENT
DTSTART;TZID=America/Los_Angeles:20290606T103000
DTEND;TZID=America/Los_Angeles:20290606T113000
DTSTAMP:20260422T042358
CREATED:20240416T002137Z
LAST-MODIFIED:20240726T000329Z
UID:10000476-1875436200-1875439800@reacsite.org
SUMMARY:ACERA Investment Committee
DESCRIPTION:
URL:https://reacsite.org/event/acera-investment-committee-8/2029-06-06/
LOCATION:ACERA\, 475 14th Street\, 10th Floor\, Oakland\, CA\, United States
ATTACH;FMTTYPE=image/png:https://reacsite.org/wp-content/uploads/ACERA_Logo.png
END:VEVENT
END:VCALENDAR