BEGIN:VCALENDAR
VERSION:2.0
PRODID:-//Retired Employees of Alameda County - ECPv6.15.16//NONSGML v1.0//EN
CALSCALE:GREGORIAN
METHOD:PUBLISH
X-WR-CALNAME:Retired Employees of Alameda County
X-ORIGINAL-URL:https://reacsite.org
X-WR-CALDESC:Events for Retired Employees of Alameda County
REFRESH-INTERVAL;VALUE=DURATION:PT1H
X-Robots-Tag:noindex
X-PUBLISHED-TTL:PT1H
BEGIN:VTIMEZONE
TZID:America/Los_Angeles
BEGIN:DAYLIGHT
TZOFFSETFROM:-0800
TZOFFSETTO:-0700
TZNAME:PDT
DTSTART:20240310T100000
END:DAYLIGHT
BEGIN:STANDARD
TZOFFSETFROM:-0700
TZOFFSETTO:-0800
TZNAME:PST
DTSTART:20241103T090000
END:STANDARD
BEGIN:DAYLIGHT
TZOFFSETFROM:-0800
TZOFFSETTO:-0700
TZNAME:PDT
DTSTART:20250309T100000
END:DAYLIGHT
BEGIN:STANDARD
TZOFFSETFROM:-0700
TZOFFSETTO:-0800
TZNAME:PST
DTSTART:20251102T090000
END:STANDARD
BEGIN:DAYLIGHT
TZOFFSETFROM:-0800
TZOFFSETTO:-0700
TZNAME:PDT
DTSTART:20260308T100000
END:DAYLIGHT
BEGIN:STANDARD
TZOFFSETFROM:-0700
TZOFFSETTO:-0800
TZNAME:PST
DTSTART:20261101T090000
END:STANDARD
END:VTIMEZONE
BEGIN:VEVENT
DTSTART;VALUE=DATE:20250901
DTEND;VALUE=DATE:20250902
DTSTAMP:20260423T021101
CREATED:20240723T000533Z
LAST-MODIFIED:20240723T000557Z
UID:10000223-1756684800-1756771199@reacsite.org
SUMMARY:Labor Day
DESCRIPTION:
URL:https://reacsite.org/event/labor-day/2025-09-01/
LOCATION:CA
END:VEVENT
BEGIN:VEVENT
DTSTART;TZID=America/Los_Angeles:20250903T093000
DTEND;TZID=America/Los_Angeles:20250903T113000
DTSTAMP:20260423T021101
CREATED:20240416T001452Z
LAST-MODIFIED:20240726T000620Z
UID:10000539-1756891800-1756899000@reacsite.org
SUMMARY:ACERA Operations Committee
DESCRIPTION:
URL:https://reacsite.org/event/acera-operations-committee-2/2025-09-03/
LOCATION:ACERA\, 475 14th Street\, 10th Floor\, Oakland\, CA\, United States
ATTACH;FMTTYPE=image/png:https://reacsite.org/wp-content/uploads/ACERA_Logo.png
END:VEVENT
BEGIN:VEVENT
DTSTART;TZID=America/Los_Angeles:20250903T103000
DTEND;TZID=America/Los_Angeles:20250903T113000
DTSTAMP:20260423T021101
CREATED:20240416T002137Z
LAST-MODIFIED:20240726T000329Z
UID:10000431-1756895400-1756899000@reacsite.org
SUMMARY:ACERA Investment Committee
DESCRIPTION:
URL:https://reacsite.org/event/acera-investment-committee-8/2025-09-03/
LOCATION:ACERA\, 475 14th Street\, 10th Floor\, Oakland\, CA\, United States
ATTACH;FMTTYPE=image/png:https://reacsite.org/wp-content/uploads/ACERA_Logo.png
END:VEVENT
BEGIN:VEVENT
DTSTART;VALUE=DATE:20250907
DTEND;VALUE=DATE:20250908
DTSTAMP:20260423T021101
CREATED:20240723T231559Z
LAST-MODIFIED:20240723T231559Z
UID:10000307-1757203200-1757289599@reacsite.org
SUMMARY:Happy Grandparents Day
DESCRIPTION:
URL:https://reacsite.org/event/happy-grandparents-day-2/
LOCATION:CA
END:VEVENT
BEGIN:VEVENT
DTSTART;TZID=America/Los_Angeles:20250908T093000
DTEND;TZID=America/Los_Angeles:20250908T113000
DTSTAMP:20260423T021101
CREATED:20240202T013633Z
LAST-MODIFIED:20240726T234631Z
UID:10000346-1757323800-1757331000@reacsite.org
SUMMARY:REAC Board Meeting
DESCRIPTION:For log-in information for this meeting\, please access the Members Only page.
URL:https://reacsite.org/event/reac-board-meeting-9/2025-09-08/
LOCATION:Zoom Video Conference
CATEGORIES:Board Meetings
ATTACH;FMTTYPE=image/png:https://reacsite.org/wp-content/uploads/2022/10/Alameda-Logo-wide.png
END:VEVENT
BEGIN:VEVENT
DTSTART;VALUE=DATE:20250915
DTEND;VALUE=DATE:20250916
DTSTAMP:20260423T021101
CREATED:20240716T231813Z
LAST-MODIFIED:20240723T232228Z
UID:10000314-1757894400-1757980799@reacsite.org
SUMMARY:First Day of Hispanic Heritage Month
DESCRIPTION:
URL:https://reacsite.org/event/first-day-of-hispanic-heritage-month/2025-09-15/
LOCATION:CA
END:VEVENT
BEGIN:VEVENT
DTSTART;TZID=America/Los_Angeles:20250918T140000
DTEND;TZID=America/Los_Angeles:20250918T150000
DTSTAMP:20260423T021101
CREATED:20240416T003010Z
LAST-MODIFIED:20240726T001213Z
UID:10000487-1758204000-1758207600@reacsite.org
SUMMARY:ACERA Board of Retirement
DESCRIPTION:
URL:https://reacsite.org/event/acera-board-of-retirement-8/2025-09-18/
LOCATION:ACERA\, 475 14th Street\, 10th Floor\, Oakland\, CA\, United States
ATTACH;FMTTYPE=image/png:https://reacsite.org/wp-content/uploads/ACERA_Logo.png
END:VEVENT
BEGIN:VEVENT
DTSTART;VALUE=DATE:20250928
DTEND;VALUE=DATE:20251002
DTSTAMP:20260423T021101
CREATED:20250429T075018Z
LAST-MODIFIED:20250429T075031Z
UID:10000578-1759017600-1759363199@reacsite.org
SUMMARY:CRCEA 2025 Fall Conference
DESCRIPTION:Hosted by REAC
URL:https://reacsite.org/event/crcea-2025-fall-conference/
LOCATION:DoubleTree by Hilton Hotel\, 7050 Johnson Drive\, Pleasanton\, CA\, 94588\, United States
CATEGORIES:Members,Events
ATTACH;FMTTYPE=image/png:https://reacsite.org/wp-content/uploads/CRCEA-Updated-Logo.png
END:VEVENT
END:VCALENDAR