BEGIN:VCALENDAR
VERSION:2.0
PRODID:-//Retired Employees of Alameda County - ECPv6.15.16//NONSGML v1.0//EN
CALSCALE:GREGORIAN
METHOD:PUBLISH
X-ORIGINAL-URL:https://reacsite.org
X-WR-CALDESC:Events for Retired Employees of Alameda County
REFRESH-INTERVAL;VALUE=DURATION:PT1H
X-Robots-Tag:noindex
X-PUBLISHED-TTL:PT1H
BEGIN:VTIMEZONE
TZID:America/Los_Angeles
BEGIN:DAYLIGHT
TZOFFSETFROM:-0800
TZOFFSETTO:-0700
TZNAME:PDT
DTSTART:20250309T100000
END:DAYLIGHT
BEGIN:STANDARD
TZOFFSETFROM:-0700
TZOFFSETTO:-0800
TZNAME:PST
DTSTART:20251102T090000
END:STANDARD
BEGIN:DAYLIGHT
TZOFFSETFROM:-0800
TZOFFSETTO:-0700
TZNAME:PDT
DTSTART:20260308T100000
END:DAYLIGHT
BEGIN:STANDARD
TZOFFSETFROM:-0700
TZOFFSETTO:-0800
TZNAME:PST
DTSTART:20261101T090000
END:STANDARD
BEGIN:DAYLIGHT
TZOFFSETFROM:-0800
TZOFFSETTO:-0700
TZNAME:PDT
DTSTART:20270314T100000
END:DAYLIGHT
BEGIN:STANDARD
TZOFFSETFROM:-0700
TZOFFSETTO:-0800
TZNAME:PST
DTSTART:20271107T090000
END:STANDARD
END:VTIMEZONE
BEGIN:VEVENT
DTSTART;TZID=America/Los_Angeles:20260902T093000
DTEND;TZID=America/Los_Angeles:20260902T113000
DTSTAMP:20260423T041916
CREATED:20240416T001452Z
LAST-MODIFIED:20240726T000620Z
UID:10000545-1788341400-1788348600@reacsite.org
SUMMARY:ACERA Operations Committee
DESCRIPTION:
URL:https://reacsite.org/event/acera-operations-committee-2/2026-09-02/
LOCATION:ACERA\, 475 14th Street\, 10th Floor\, Oakland\, CA\, United States
ATTACH;FMTTYPE=image/png:https://reacsite.org/wp-content/uploads/ACERA_Logo.png
END:VEVENT
BEGIN:VEVENT
DTSTART;TZID=America/Los_Angeles:20260902T103000
DTEND;TZID=America/Los_Angeles:20260902T113000
DTSTAMP:20260423T041916
CREATED:20240416T002137Z
LAST-MODIFIED:20240726T000329Z
UID:10000443-1788345000-1788348600@reacsite.org
SUMMARY:ACERA Investment Committee
DESCRIPTION:
URL:https://reacsite.org/event/acera-investment-committee-8/2026-09-02/
LOCATION:ACERA\, 475 14th Street\, 10th Floor\, Oakland\, CA\, United States
ATTACH;FMTTYPE=image/png:https://reacsite.org/wp-content/uploads/ACERA_Logo.png
END:VEVENT
BEGIN:VEVENT
DTSTART;VALUE=DATE:20260907
DTEND;VALUE=DATE:20260908
DTSTAMP:20260423T041916
CREATED:20240723T000533Z
LAST-MODIFIED:20240723T000557Z
UID:10000224-1788739200-1788825599@reacsite.org
SUMMARY:Labor Day
DESCRIPTION:
URL:https://reacsite.org/event/labor-day/2026-09-07/
LOCATION:CA
END:VEVENT
BEGIN:VEVENT
DTSTART;VALUE=DATE:20260913
DTEND;VALUE=DATE:20260914
DTSTAMP:20260423T041916
CREATED:20240723T231652Z
LAST-MODIFIED:20240723T231652Z
UID:10000308-1789257600-1789343999@reacsite.org
SUMMARY:Happy Grandparents Day
DESCRIPTION:
URL:https://reacsite.org/event/happy-grandparents-day-3/
LOCATION:CA
END:VEVENT
BEGIN:VEVENT
DTSTART;TZID=America/Los_Angeles:20260914T093000
DTEND;TZID=America/Los_Angeles:20260914T113000
DTSTAMP:20260423T041916
CREATED:20240202T013633Z
LAST-MODIFIED:20240726T234631Z
UID:10000358-1789378200-1789385400@reacsite.org
SUMMARY:REAC Board Meeting
DESCRIPTION:For log-in information for this meeting\, please access the Members Only page.
URL:https://reacsite.org/event/reac-board-meeting-9/2026-09-14/
LOCATION:Zoom Video Conference
CATEGORIES:Board Meetings
ATTACH;FMTTYPE=image/png:https://reacsite.org/wp-content/uploads/2022/10/Alameda-Logo-wide.png
END:VEVENT
BEGIN:VEVENT
DTSTART;VALUE=DATE:20260915
DTEND;VALUE=DATE:20260916
DTSTAMP:20260423T041916
CREATED:20240716T231813Z
LAST-MODIFIED:20240723T232228Z
UID:10000315-1789430400-1789516799@reacsite.org
SUMMARY:First Day of Hispanic Heritage Month
DESCRIPTION:
URL:https://reacsite.org/event/first-day-of-hispanic-heritage-month/2026-09-15/
LOCATION:CA
END:VEVENT
BEGIN:VEVENT
DTSTART;TZID=America/Los_Angeles:20260917T140000
DTEND;TZID=America/Los_Angeles:20260917T150000
DTSTAMP:20260423T041916
CREATED:20240416T003010Z
LAST-MODIFIED:20240726T001213Z
UID:10000499-1789653600-1789657200@reacsite.org
SUMMARY:ACERA Board of Retirement
DESCRIPTION:
URL:https://reacsite.org/event/acera-board-of-retirement-8/2026-09-17/
LOCATION:ACERA\, 475 14th Street\, 10th Floor\, Oakland\, CA\, United States
ATTACH;FMTTYPE=image/png:https://reacsite.org/wp-content/uploads/ACERA_Logo.png
END:VEVENT
END:VCALENDAR