BEGIN:VCALENDAR
VERSION:2.0
PRODID:-//Retired Employees of Alameda County - ECPv6.15.16//NONSGML v1.0//EN
CALSCALE:GREGORIAN
METHOD:PUBLISH
X-WR-CALNAME:Retired Employees of Alameda County
X-ORIGINAL-URL:https://reacsite.org
X-WR-CALDESC:Events for Retired Employees of Alameda County
REFRESH-INTERVAL;VALUE=DURATION:PT1H
X-Robots-Tag:noindex
X-PUBLISHED-TTL:PT1H
BEGIN:VTIMEZONE
TZID:America/Los_Angeles
BEGIN:DAYLIGHT
TZOFFSETFROM:-0800
TZOFFSETTO:-0700
TZNAME:PDT
DTSTART:20280312T100000
END:DAYLIGHT
BEGIN:STANDARD
TZOFFSETFROM:-0700
TZOFFSETTO:-0800
TZNAME:PST
DTSTART:20281105T090000
END:STANDARD
BEGIN:DAYLIGHT
TZOFFSETFROM:-0800
TZOFFSETTO:-0700
TZNAME:PDT
DTSTART:20290311T100000
END:DAYLIGHT
BEGIN:STANDARD
TZOFFSETFROM:-0700
TZOFFSETTO:-0800
TZNAME:PST
DTSTART:20291104T090000
END:STANDARD
BEGIN:DAYLIGHT
TZOFFSETFROM:-0800
TZOFFSETTO:-0700
TZNAME:PDT
DTSTART:20300310T100000
END:DAYLIGHT
BEGIN:STANDARD
TZOFFSETFROM:-0700
TZOFFSETTO:-0800
TZNAME:PST
DTSTART:20301103T090000
END:STANDARD
END:VTIMEZONE
BEGIN:VEVENT
DTSTART;VALUE=DATE:20290101
DTEND;VALUE=DATE:20290102
DTSTAMP:20260422T084640
CREATED:20240722T234548Z
LAST-MODIFIED:20240722T234548Z
UID:10000221-1861920000-1862006399@reacsite.org
SUMMARY:New Year's Day
DESCRIPTION:
URL:https://reacsite.org/event/new-years-day/2029-01-01/
LOCATION:CA
END:VEVENT
BEGIN:VEVENT
DTSTART;TZID=America/Los_Angeles:20290103T093000
DTEND;TZID=America/Los_Angeles:20290103T113000
DTSTAMP:20260422T084640
CREATED:20240416T001452Z
LAST-MODIFIED:20240726T000620Z
UID:10000559-1862127000-1862134200@reacsite.org
SUMMARY:ACERA Operations Committee
DESCRIPTION:
URL:https://reacsite.org/event/acera-operations-committee-2/2029-01-03/
LOCATION:ACERA\, 475 14th Street\, 10th Floor\, Oakland\, CA\, United States
ATTACH;FMTTYPE=image/png:https://reacsite.org/wp-content/uploads/ACERA_Logo.png
END:VEVENT
BEGIN:VEVENT
DTSTART;TZID=America/Los_Angeles:20290103T103000
DTEND;TZID=America/Los_Angeles:20290103T113000
DTSTAMP:20260422T084640
CREATED:20240416T002137Z
LAST-MODIFIED:20240726T000329Z
UID:10000471-1862130600-1862134200@reacsite.org
SUMMARY:ACERA Investment Committee
DESCRIPTION:
URL:https://reacsite.org/event/acera-investment-committee-8/2029-01-03/
LOCATION:ACERA\, 475 14th Street\, 10th Floor\, Oakland\, CA\, United States
ATTACH;FMTTYPE=image/png:https://reacsite.org/wp-content/uploads/ACERA_Logo.png
END:VEVENT
BEGIN:VEVENT
DTSTART;TZID=America/Los_Angeles:20290108T093000
DTEND;TZID=America/Los_Angeles:20290108T113000
DTSTAMP:20260422T084640
CREATED:20240202T013633Z
LAST-MODIFIED:20240726T234631Z
UID:10000386-1862559000-1862566200@reacsite.org
SUMMARY:REAC Board Meeting
DESCRIPTION:For log-in information for this meeting\, please access the Members Only page.
URL:https://reacsite.org/event/reac-board-meeting-9/2029-01-08/
LOCATION:Zoom Video Conference
CATEGORIES:Board Meetings
ATTACH;FMTTYPE=image/png:https://reacsite.org/wp-content/uploads/2022/10/Alameda-Logo-wide.png
END:VEVENT
BEGIN:VEVENT
DTSTART;VALUE=DATE:20290115
DTEND;VALUE=DATE:20290116
DTSTAMP:20260422T084640
CREATED:20240716T220825Z
LAST-MODIFIED:20240723T222740Z
UID:10000231-1863129600-1863215999@reacsite.org
SUMMARY:Martin Luther King\, Jr. Day
DESCRIPTION:
URL:https://reacsite.org/event/martin-luther-king-jr-day/2029-01-15/
LOCATION:CA
END:VEVENT
BEGIN:VEVENT
DTSTART;TZID=America/Los_Angeles:20290118T140000
DTEND;TZID=America/Los_Angeles:20290118T150000
DTSTAMP:20260422T084640
CREATED:20240416T003010Z
LAST-MODIFIED:20240726T001213Z
UID:10000527-1863439200-1863442800@reacsite.org
SUMMARY:ACERA Board of Retirement
DESCRIPTION:
URL:https://reacsite.org/event/acera-board-of-retirement-8/2029-01-18/
LOCATION:ACERA\, 475 14th Street\, 10th Floor\, Oakland\, CA\, United States
ATTACH;FMTTYPE=image/png:https://reacsite.org/wp-content/uploads/ACERA_Logo.png
END:VEVENT
END:VCALENDAR