BEGIN:VCALENDAR
VERSION:2.0
PRODID:-//Retired Employees of Alameda County - ECPv6.15.16//NONSGML v1.0//EN
CALSCALE:GREGORIAN
METHOD:PUBLISH
X-ORIGINAL-URL:https://reacsite.org
X-WR-CALDESC:Events for Retired Employees of Alameda County
REFRESH-INTERVAL;VALUE=DURATION:PT1H
X-Robots-Tag:noindex
X-PUBLISHED-TTL:PT1H
BEGIN:VTIMEZONE
TZID:America/Los_Angeles
BEGIN:DAYLIGHT
TZOFFSETFROM:-0800
TZOFFSETTO:-0700
TZNAME:PDT
DTSTART:20280312T100000
END:DAYLIGHT
BEGIN:STANDARD
TZOFFSETFROM:-0700
TZOFFSETTO:-0800
TZNAME:PST
DTSTART:20281105T090000
END:STANDARD
BEGIN:DAYLIGHT
TZOFFSETFROM:-0800
TZOFFSETTO:-0700
TZNAME:PDT
DTSTART:20290311T100000
END:DAYLIGHT
BEGIN:STANDARD
TZOFFSETFROM:-0700
TZOFFSETTO:-0800
TZNAME:PST
DTSTART:20291104T090000
END:STANDARD
BEGIN:DAYLIGHT
TZOFFSETFROM:-0800
TZOFFSETTO:-0700
TZNAME:PDT
DTSTART:20300310T100000
END:DAYLIGHT
BEGIN:STANDARD
TZOFFSETFROM:-0700
TZOFFSETTO:-0800
TZNAME:PST
DTSTART:20301103T090000
END:STANDARD
END:VTIMEZONE
BEGIN:VEVENT
DTSTART;VALUE=DATE:20290201
DTEND;VALUE=DATE:20290202
DTSTAMP:20260422T070926
CREATED:20240716T221118Z
LAST-MODIFIED:20240723T223000Z
UID:10000236-1864598400-1864684799@reacsite.org
SUMMARY:First Day of Black History Month
DESCRIPTION:
URL:https://reacsite.org/event/first-day-of-black-history-month/2029-02-01/
LOCATION:CA
END:VEVENT
BEGIN:VEVENT
DTSTART;TZID=America/Los_Angeles:20290207T093000
DTEND;TZID=America/Los_Angeles:20290207T130000
DTSTAMP:20260422T070926
CREATED:20240416T000725Z
LAST-MODIFIED:20240725T212858Z
UID:10000417-1865151000-1865163600@reacsite.org
SUMMARY:ACERA Retirees Committee
DESCRIPTION:
URL:https://reacsite.org/event/acera-retirees-committee-5/2029-02-07/
LOCATION:ACERA\, 475 14th Street\, 10th Floor\, Oakland\, CA\, United States
ATTACH;FMTTYPE=image/png:https://reacsite.org/wp-content/uploads/ACERA_Logo.png
END:VEVENT
BEGIN:VEVENT
DTSTART;TZID=America/Los_Angeles:20290207T103000
DTEND;TZID=America/Los_Angeles:20290207T113000
DTSTAMP:20260422T070926
CREATED:20240416T002137Z
LAST-MODIFIED:20240726T000329Z
UID:10000472-1865154600-1865158200@reacsite.org
SUMMARY:ACERA Investment Committee
DESCRIPTION:
URL:https://reacsite.org/event/acera-investment-committee-8/2029-02-07/
LOCATION:ACERA\, 475 14th Street\, 10th Floor\, Oakland\, CA\, United States
ATTACH;FMTTYPE=image/png:https://reacsite.org/wp-content/uploads/ACERA_Logo.png
END:VEVENT
BEGIN:VEVENT
DTSTART;TZID=America/Los_Angeles:20290212T093000
DTEND;TZID=America/Los_Angeles:20290212T113000
DTSTAMP:20260422T070926
CREATED:20240202T013633Z
LAST-MODIFIED:20240726T234631Z
UID:10000387-1865583000-1865590200@reacsite.org
SUMMARY:REAC Board Meeting
DESCRIPTION:For log-in information for this meeting\, please access the Members Only page.
URL:https://reacsite.org/event/reac-board-meeting-9/2029-02-12/
LOCATION:Zoom Video Conference
CATEGORIES:Board Meetings
ATTACH;FMTTYPE=image/png:https://reacsite.org/wp-content/uploads/2022/10/Alameda-Logo-wide.png
END:VEVENT
BEGIN:VEVENT
DTSTART;VALUE=DATE:20290214
DTEND;VALUE=DATE:20290215
DTSTAMP:20260422T070926
CREATED:20240716T221328Z
LAST-MODIFIED:20240723T223147Z
UID:10000241-1865721600-1865807999@reacsite.org
SUMMARY:Happy Valentine’s Day
DESCRIPTION:
URL:https://reacsite.org/event/happy-valentines-day/2029-02-14/
LOCATION:CA
END:VEVENT
BEGIN:VEVENT
DTSTART;TZID=America/Los_Angeles:20290215T140000
DTEND;TZID=America/Los_Angeles:20290215T150000
DTSTAMP:20260422T070926
CREATED:20240416T003010Z
LAST-MODIFIED:20240726T001213Z
UID:10000528-1865858400-1865862000@reacsite.org
SUMMARY:ACERA Board of Retirement
DESCRIPTION:
URL:https://reacsite.org/event/acera-board-of-retirement-8/2029-02-15/
LOCATION:ACERA\, 475 14th Street\, 10th Floor\, Oakland\, CA\, United States
ATTACH;FMTTYPE=image/png:https://reacsite.org/wp-content/uploads/ACERA_Logo.png
END:VEVENT
BEGIN:VEVENT
DTSTART;VALUE=DATE:20290219
DTEND;VALUE=DATE:20290220
DTSTAMP:20260422T070926
CREATED:20240716T221512Z
LAST-MODIFIED:20240723T223412Z
UID:10000246-1866153600-1866239999@reacsite.org
SUMMARY:Presidents’ Day
DESCRIPTION:
URL:https://reacsite.org/event/presidents-day/2029-02-19/
LOCATION:CA
END:VEVENT
END:VCALENDAR