BEGIN:VCALENDAR
VERSION:2.0
PRODID:-//Retired Employees of Alameda County - ECPv6.15.16//NONSGML v1.0//EN
CALSCALE:GREGORIAN
METHOD:PUBLISH
X-WR-CALNAME:Retired Employees of Alameda County
X-ORIGINAL-URL:https://reacsite.org
X-WR-CALDESC:Events for Retired Employees of Alameda County
REFRESH-INTERVAL;VALUE=DURATION:PT1H
X-Robots-Tag:noindex
X-PUBLISHED-TTL:PT1H
BEGIN:VTIMEZONE
TZID:America/Los_Angeles
BEGIN:DAYLIGHT
TZOFFSETFROM:-0800
TZOFFSETTO:-0700
TZNAME:PDT
DTSTART:20280312T100000
END:DAYLIGHT
BEGIN:STANDARD
TZOFFSETFROM:-0700
TZOFFSETTO:-0800
TZNAME:PST
DTSTART:20281105T090000
END:STANDARD
BEGIN:DAYLIGHT
TZOFFSETFROM:-0800
TZOFFSETTO:-0700
TZNAME:PDT
DTSTART:20290311T100000
END:DAYLIGHT
BEGIN:STANDARD
TZOFFSETFROM:-0700
TZOFFSETTO:-0800
TZNAME:PST
DTSTART:20291104T090000
END:STANDARD
BEGIN:DAYLIGHT
TZOFFSETFROM:-0800
TZOFFSETTO:-0700
TZNAME:PDT
DTSTART:20300310T100000
END:DAYLIGHT
BEGIN:STANDARD
TZOFFSETFROM:-0700
TZOFFSETTO:-0800
TZNAME:PST
DTSTART:20301103T090000
END:STANDARD
END:VTIMEZONE
BEGIN:VEVENT
DTSTART;VALUE=DATE:20290501
DTEND;VALUE=DATE:20290502
DTSTAMP:20260422T025807
CREATED:20240716T222149Z
LAST-MODIFIED:20240723T225103Z
UID:10000261-1872288000-1872374399@reacsite.org
SUMMARY:First Day of Asian Pacific Islander Month
DESCRIPTION:
URL:https://reacsite.org/event/first-day-of-asian-pacific-islander-month/2029-05-01/
LOCATION:CA
END:VEVENT
BEGIN:VEVENT
DTSTART;TZID=America/Los_Angeles:20290502T093000
DTEND;TZID=America/Los_Angeles:20290502T113000
DTSTAMP:20260422T025807
CREATED:20240416T001452Z
LAST-MODIFIED:20240726T000620Z
UID:10000561-1872408600-1872415800@reacsite.org
SUMMARY:ACERA Operations Committee
DESCRIPTION:
URL:https://reacsite.org/event/acera-operations-committee-2/2029-05-02/
LOCATION:ACERA\, 475 14th Street\, 10th Floor\, Oakland\, CA\, United States
ATTACH;FMTTYPE=image/png:https://reacsite.org/wp-content/uploads/ACERA_Logo.png
END:VEVENT
BEGIN:VEVENT
DTSTART;TZID=America/Los_Angeles:20290502T103000
DTEND;TZID=America/Los_Angeles:20290502T113000
DTSTAMP:20260422T025807
CREATED:20240416T002137Z
LAST-MODIFIED:20240726T000329Z
UID:10000475-1872412200-1872415800@reacsite.org
SUMMARY:ACERA Investment Committee
DESCRIPTION:
URL:https://reacsite.org/event/acera-investment-committee-8/2029-05-02/
LOCATION:ACERA\, 475 14th Street\, 10th Floor\, Oakland\, CA\, United States
ATTACH;FMTTYPE=image/png:https://reacsite.org/wp-content/uploads/ACERA_Logo.png
END:VEVENT
BEGIN:VEVENT
DTSTART;VALUE=DATE:20290505
DTEND;VALUE=DATE:20290506
DTSTAMP:20260422T025807
CREATED:20240716T222944Z
LAST-MODIFIED:20240723T225249Z
UID:10000266-1872633600-1872719999@reacsite.org
SUMMARY:Cinco de Mayo
DESCRIPTION:
URL:https://reacsite.org/event/cinco-de-mayo/2029-05-05/
LOCATION:CA
END:VEVENT
BEGIN:VEVENT
DTSTART;VALUE=DATE:20290513
DTEND;VALUE=DATE:20290514
DTSTAMP:20260422T025807
CREATED:20240716T223411Z
LAST-MODIFIED:20240723T225649Z
UID:10000276-1873324800-1873411199@reacsite.org
SUMMARY:Happy Mother’s Day
DESCRIPTION:
URL:https://reacsite.org/event/happy-mothers-day/2029-05-13/
LOCATION:CA
END:VEVENT
BEGIN:VEVENT
DTSTART;TZID=America/Los_Angeles:20290514T093000
DTEND;TZID=America/Los_Angeles:20290514T113000
DTSTAMP:20260422T025807
CREATED:20240202T013633Z
LAST-MODIFIED:20240726T234631Z
UID:10000390-1873445400-1873452600@reacsite.org
SUMMARY:REAC Board Meeting
DESCRIPTION:For log-in information for this meeting\, please access the Members Only page.
URL:https://reacsite.org/event/reac-board-meeting-9/2029-05-14/
LOCATION:Zoom Video Conference
CATEGORIES:Board Meetings
ATTACH;FMTTYPE=image/png:https://reacsite.org/wp-content/uploads/2022/10/Alameda-Logo-wide.png
END:VEVENT
BEGIN:VEVENT
DTSTART;TZID=America/Los_Angeles:20290517T140000
DTEND;TZID=America/Los_Angeles:20290517T150000
DTSTAMP:20260422T025807
CREATED:20240416T003010Z
LAST-MODIFIED:20240726T001213Z
UID:10000531-1873720800-1873724400@reacsite.org
SUMMARY:ACERA Board of Retirement
DESCRIPTION:
URL:https://reacsite.org/event/acera-board-of-retirement-8/2029-05-17/
LOCATION:ACERA\, 475 14th Street\, 10th Floor\, Oakland\, CA\, United States
ATTACH;FMTTYPE=image/png:https://reacsite.org/wp-content/uploads/ACERA_Logo.png
END:VEVENT
BEGIN:VEVENT
DTSTART;VALUE=DATE:20290522
DTEND;VALUE=DATE:20290523
DTSTAMP:20260422T025808
CREATED:20240716T223156Z
LAST-MODIFIED:20240723T225422Z
UID:10000271-1874102400-1874188799@reacsite.org
SUMMARY:Harvey Milk Day
DESCRIPTION:
URL:https://reacsite.org/event/harvey-milk-day/2029-05-22/
LOCATION:CA
END:VEVENT
BEGIN:VEVENT
DTSTART;VALUE=DATE:20290528
DTEND;VALUE=DATE:20290529
DTSTAMP:20260422T025808
CREATED:20240716T223606Z
LAST-MODIFIED:20240723T225837Z
UID:10000281-1874620800-1874707199@reacsite.org
SUMMARY:Memorial Day
DESCRIPTION:
URL:https://reacsite.org/event/memorial-day/2029-05-28/
LOCATION:CA
END:VEVENT
END:VCALENDAR