BEGIN:VCALENDAR
VERSION:2.0
PRODID:-//Retired Employees of Alameda County - ECPv6.15.16//NONSGML v1.0//EN
CALSCALE:GREGORIAN
METHOD:PUBLISH
X-ORIGINAL-URL:https://reacsite.org
X-WR-CALDESC:Events for Retired Employees of Alameda County
REFRESH-INTERVAL;VALUE=DURATION:PT1H
X-Robots-Tag:noindex
X-PUBLISHED-TTL:PT1H
BEGIN:VTIMEZONE
TZID:America/Los_Angeles
BEGIN:DAYLIGHT
TZOFFSETFROM:-0800
TZOFFSETTO:-0700
TZNAME:PDT
DTSTART:20260308T100000
END:DAYLIGHT
BEGIN:STANDARD
TZOFFSETFROM:-0700
TZOFFSETTO:-0800
TZNAME:PST
DTSTART:20261101T090000
END:STANDARD
BEGIN:DAYLIGHT
TZOFFSETFROM:-0800
TZOFFSETTO:-0700
TZNAME:PDT
DTSTART:20270314T100000
END:DAYLIGHT
BEGIN:STANDARD
TZOFFSETFROM:-0700
TZOFFSETTO:-0800
TZNAME:PST
DTSTART:20271107T090000
END:STANDARD
BEGIN:DAYLIGHT
TZOFFSETFROM:-0800
TZOFFSETTO:-0700
TZNAME:PDT
DTSTART:20280312T100000
END:DAYLIGHT
BEGIN:STANDARD
TZOFFSETFROM:-0700
TZOFFSETTO:-0800
TZNAME:PST
DTSTART:20281105T090000
END:STANDARD
BEGIN:DAYLIGHT
TZOFFSETFROM:-0800
TZOFFSETTO:-0700
TZNAME:PDT
DTSTART:20290311T100000
END:DAYLIGHT
BEGIN:STANDARD
TZOFFSETFROM:-0700
TZOFFSETTO:-0800
TZNAME:PST
DTSTART:20291104T090000
END:STANDARD
END:VTIMEZONE
BEGIN:VEVENT
DTSTART;TZID=America/Los_Angeles:20270804T103000
DTEND;TZID=America/Los_Angeles:20270804T113000
DTSTAMP:20260422T042541
CREATED:20240416T002137Z
LAST-MODIFIED:20240726T000329Z
UID:10000454-1817375400-1817379000@reacsite.org
SUMMARY:ACERA Investment Committee
DESCRIPTION:
URL:https://reacsite.org/event/acera-investment-committee-8/2027-08-04/
LOCATION:ACERA\, 475 14th Street\, 10th Floor\, Oakland\, CA\, United States
ATTACH;FMTTYPE=image/png:https://reacsite.org/wp-content/uploads/ACERA_Logo.png
END:VEVENT
BEGIN:VEVENT
DTSTART;TZID=America/Los_Angeles:20270819T140000
DTEND;TZID=America/Los_Angeles:20270819T150000
DTSTAMP:20260422T042541
CREATED:20240416T003010Z
LAST-MODIFIED:20240726T001213Z
UID:10000510-1818684000-1818687600@reacsite.org
SUMMARY:ACERA Board of Retirement
DESCRIPTION:
URL:https://reacsite.org/event/acera-board-of-retirement-8/2027-08-19/
LOCATION:ACERA\, 475 14th Street\, 10th Floor\, Oakland\, CA\, United States
ATTACH;FMTTYPE=image/png:https://reacsite.org/wp-content/uploads/ACERA_Logo.png
END:VEVENT
BEGIN:VEVENT
DTSTART;TZID=America/Los_Angeles:20270901T093000
DTEND;TZID=America/Los_Angeles:20270901T113000
DTSTAMP:20260422T042541
CREATED:20240416T001452Z
LAST-MODIFIED:20240726T000620Z
UID:10000551-1819791000-1819798200@reacsite.org
SUMMARY:ACERA Operations Committee
DESCRIPTION:
URL:https://reacsite.org/event/acera-operations-committee-2/2027-09-01/
LOCATION:ACERA\, 475 14th Street\, 10th Floor\, Oakland\, CA\, United States
ATTACH;FMTTYPE=image/png:https://reacsite.org/wp-content/uploads/ACERA_Logo.png
END:VEVENT
BEGIN:VEVENT
DTSTART;TZID=America/Los_Angeles:20270901T103000
DTEND;TZID=America/Los_Angeles:20270901T113000
DTSTAMP:20260422T042541
CREATED:20240416T002137Z
LAST-MODIFIED:20240726T000329Z
UID:10000455-1819794600-1819798200@reacsite.org
SUMMARY:ACERA Investment Committee
DESCRIPTION:
URL:https://reacsite.org/event/acera-investment-committee-8/2027-09-01/
LOCATION:ACERA\, 475 14th Street\, 10th Floor\, Oakland\, CA\, United States
ATTACH;FMTTYPE=image/png:https://reacsite.org/wp-content/uploads/ACERA_Logo.png
END:VEVENT
BEGIN:VEVENT
DTSTART;TZID=America/Los_Angeles:20270916T140000
DTEND;TZID=America/Los_Angeles:20270916T150000
DTSTAMP:20260422T042541
CREATED:20240416T003010Z
LAST-MODIFIED:20240726T001213Z
UID:10000511-1821103200-1821106800@reacsite.org
SUMMARY:ACERA Board of Retirement
DESCRIPTION:
URL:https://reacsite.org/event/acera-board-of-retirement-8/2027-09-16/
LOCATION:ACERA\, 475 14th Street\, 10th Floor\, Oakland\, CA\, United States
ATTACH;FMTTYPE=image/png:https://reacsite.org/wp-content/uploads/ACERA_Logo.png
END:VEVENT
BEGIN:VEVENT
DTSTART;TZID=America/Los_Angeles:20271006T093000
DTEND;TZID=America/Los_Angeles:20271006T130000
DTSTAMP:20260422T042541
CREATED:20240416T000725Z
LAST-MODIFIED:20240725T212858Z
UID:10000409-1822815000-1822827600@reacsite.org
SUMMARY:ACERA Retirees Committee
DESCRIPTION:
URL:https://reacsite.org/event/acera-retirees-committee-5/2027-10-06/
LOCATION:ACERA\, 475 14th Street\, 10th Floor\, Oakland\, CA\, United States
ATTACH;FMTTYPE=image/png:https://reacsite.org/wp-content/uploads/ACERA_Logo.png
END:VEVENT
BEGIN:VEVENT
DTSTART;TZID=America/Los_Angeles:20271006T103000
DTEND;TZID=America/Los_Angeles:20271006T113000
DTSTAMP:20260422T042541
CREATED:20240416T002137Z
LAST-MODIFIED:20240726T000329Z
UID:10000456-1822818600-1822822200@reacsite.org
SUMMARY:ACERA Investment Committee
DESCRIPTION:
URL:https://reacsite.org/event/acera-investment-committee-8/2027-10-06/
LOCATION:ACERA\, 475 14th Street\, 10th Floor\, Oakland\, CA\, United States
ATTACH;FMTTYPE=image/png:https://reacsite.org/wp-content/uploads/ACERA_Logo.png
END:VEVENT
BEGIN:VEVENT
DTSTART;TZID=America/Los_Angeles:20271021T140000
DTEND;TZID=America/Los_Angeles:20271021T150000
DTSTAMP:20260422T042541
CREATED:20240416T003010Z
LAST-MODIFIED:20240726T001213Z
UID:10000512-1824127200-1824130800@reacsite.org
SUMMARY:ACERA Board of Retirement
DESCRIPTION:
URL:https://reacsite.org/event/acera-board-of-retirement-8/2027-10-21/
LOCATION:ACERA\, 475 14th Street\, 10th Floor\, Oakland\, CA\, United States
ATTACH;FMTTYPE=image/png:https://reacsite.org/wp-content/uploads/ACERA_Logo.png
END:VEVENT
BEGIN:VEVENT
DTSTART;TZID=America/Los_Angeles:20271103T093000
DTEND;TZID=America/Los_Angeles:20271103T113000
DTSTAMP:20260422T042541
CREATED:20240416T001452Z
LAST-MODIFIED:20240726T000620Z
UID:10000552-1825234200-1825241400@reacsite.org
SUMMARY:ACERA Operations Committee
DESCRIPTION:
URL:https://reacsite.org/event/acera-operations-committee-2/2027-11-03/
LOCATION:ACERA\, 475 14th Street\, 10th Floor\, Oakland\, CA\, United States
ATTACH;FMTTYPE=image/png:https://reacsite.org/wp-content/uploads/ACERA_Logo.png
END:VEVENT
BEGIN:VEVENT
DTSTART;TZID=America/Los_Angeles:20271103T103000
DTEND;TZID=America/Los_Angeles:20271103T113000
DTSTAMP:20260422T042541
CREATED:20240416T002137Z
LAST-MODIFIED:20240726T000329Z
UID:10000457-1825237800-1825241400@reacsite.org
SUMMARY:ACERA Investment Committee
DESCRIPTION:
URL:https://reacsite.org/event/acera-investment-committee-8/2027-11-03/
LOCATION:ACERA\, 475 14th Street\, 10th Floor\, Oakland\, CA\, United States
ATTACH;FMTTYPE=image/png:https://reacsite.org/wp-content/uploads/ACERA_Logo.png
END:VEVENT
BEGIN:VEVENT
DTSTART;TZID=America/Los_Angeles:20271118T140000
DTEND;TZID=America/Los_Angeles:20271118T150000
DTSTAMP:20260422T042541
CREATED:20240416T003010Z
LAST-MODIFIED:20240726T001213Z
UID:10000513-1826546400-1826550000@reacsite.org
SUMMARY:ACERA Board of Retirement
DESCRIPTION:
URL:https://reacsite.org/event/acera-board-of-retirement-8/2027-11-18/
LOCATION:ACERA\, 475 14th Street\, 10th Floor\, Oakland\, CA\, United States
ATTACH;FMTTYPE=image/png:https://reacsite.org/wp-content/uploads/ACERA_Logo.png
END:VEVENT
BEGIN:VEVENT
DTSTART;TZID=America/Los_Angeles:20271201T093000
DTEND;TZID=America/Los_Angeles:20271201T130000
DTSTAMP:20260422T042541
CREATED:20240416T000725Z
LAST-MODIFIED:20240725T212858Z
UID:10000410-1827653400-1827666000@reacsite.org
SUMMARY:ACERA Retirees Committee
DESCRIPTION:
URL:https://reacsite.org/event/acera-retirees-committee-5/2027-12-01/
LOCATION:ACERA\, 475 14th Street\, 10th Floor\, Oakland\, CA\, United States
ATTACH;FMTTYPE=image/png:https://reacsite.org/wp-content/uploads/ACERA_Logo.png
END:VEVENT
BEGIN:VEVENT
DTSTART;TZID=America/Los_Angeles:20271201T103000
DTEND;TZID=America/Los_Angeles:20271201T113000
DTSTAMP:20260422T042541
CREATED:20240416T002137Z
LAST-MODIFIED:20240726T000329Z
UID:10000458-1827657000-1827660600@reacsite.org
SUMMARY:ACERA Investment Committee
DESCRIPTION:
URL:https://reacsite.org/event/acera-investment-committee-8/2027-12-01/
LOCATION:ACERA\, 475 14th Street\, 10th Floor\, Oakland\, CA\, United States
ATTACH;FMTTYPE=image/png:https://reacsite.org/wp-content/uploads/ACERA_Logo.png
END:VEVENT
BEGIN:VEVENT
DTSTART;TZID=America/Los_Angeles:20271216T140000
DTEND;TZID=America/Los_Angeles:20271216T150000
DTSTAMP:20260422T042541
CREATED:20240416T003010Z
LAST-MODIFIED:20240726T001213Z
UID:10000514-1828965600-1828969200@reacsite.org
SUMMARY:ACERA Board of Retirement
DESCRIPTION:
URL:https://reacsite.org/event/acera-board-of-retirement-8/2027-12-16/
LOCATION:ACERA\, 475 14th Street\, 10th Floor\, Oakland\, CA\, United States
ATTACH;FMTTYPE=image/png:https://reacsite.org/wp-content/uploads/ACERA_Logo.png
END:VEVENT
BEGIN:VEVENT
DTSTART;TZID=America/Los_Angeles:20280105T093000
DTEND;TZID=America/Los_Angeles:20280105T113000
DTSTAMP:20260422T042541
CREATED:20240416T001452Z
LAST-MODIFIED:20240726T000620Z
UID:10000553-1830677400-1830684600@reacsite.org
SUMMARY:ACERA Operations Committee
DESCRIPTION:
URL:https://reacsite.org/event/acera-operations-committee-2/2028-01-05/
LOCATION:ACERA\, 475 14th Street\, 10th Floor\, Oakland\, CA\, United States
ATTACH;FMTTYPE=image/png:https://reacsite.org/wp-content/uploads/ACERA_Logo.png
END:VEVENT
BEGIN:VEVENT
DTSTART;TZID=America/Los_Angeles:20280105T103000
DTEND;TZID=America/Los_Angeles:20280105T113000
DTSTAMP:20260422T042541
CREATED:20240416T002137Z
LAST-MODIFIED:20240726T000329Z
UID:10000459-1830681000-1830684600@reacsite.org
SUMMARY:ACERA Investment Committee
DESCRIPTION:
URL:https://reacsite.org/event/acera-investment-committee-8/2028-01-05/
LOCATION:ACERA\, 475 14th Street\, 10th Floor\, Oakland\, CA\, United States
ATTACH;FMTTYPE=image/png:https://reacsite.org/wp-content/uploads/ACERA_Logo.png
END:VEVENT
BEGIN:VEVENT
DTSTART;TZID=America/Los_Angeles:20280120T140000
DTEND;TZID=America/Los_Angeles:20280120T150000
DTSTAMP:20260422T042541
CREATED:20240416T003010Z
LAST-MODIFIED:20240726T001213Z
UID:10000515-1831989600-1831993200@reacsite.org
SUMMARY:ACERA Board of Retirement
DESCRIPTION:
URL:https://reacsite.org/event/acera-board-of-retirement-8/2028-01-20/
LOCATION:ACERA\, 475 14th Street\, 10th Floor\, Oakland\, CA\, United States
ATTACH;FMTTYPE=image/png:https://reacsite.org/wp-content/uploads/ACERA_Logo.png
END:VEVENT
BEGIN:VEVENT
DTSTART;TZID=America/Los_Angeles:20280202T093000
DTEND;TZID=America/Los_Angeles:20280202T130000
DTSTAMP:20260422T042541
CREATED:20240416T000725Z
LAST-MODIFIED:20240725T212858Z
UID:10000411-1833096600-1833109200@reacsite.org
SUMMARY:ACERA Retirees Committee
DESCRIPTION:
URL:https://reacsite.org/event/acera-retirees-committee-5/2028-02-02/
LOCATION:ACERA\, 475 14th Street\, 10th Floor\, Oakland\, CA\, United States
ATTACH;FMTTYPE=image/png:https://reacsite.org/wp-content/uploads/ACERA_Logo.png
END:VEVENT
BEGIN:VEVENT
DTSTART;TZID=America/Los_Angeles:20280202T103000
DTEND;TZID=America/Los_Angeles:20280202T113000
DTSTAMP:20260422T042541
CREATED:20240416T002137Z
LAST-MODIFIED:20240726T000329Z
UID:10000460-1833100200-1833103800@reacsite.org
SUMMARY:ACERA Investment Committee
DESCRIPTION:
URL:https://reacsite.org/event/acera-investment-committee-8/2028-02-02/
LOCATION:ACERA\, 475 14th Street\, 10th Floor\, Oakland\, CA\, United States
ATTACH;FMTTYPE=image/png:https://reacsite.org/wp-content/uploads/ACERA_Logo.png
END:VEVENT
BEGIN:VEVENT
DTSTART;TZID=America/Los_Angeles:20280217T140000
DTEND;TZID=America/Los_Angeles:20280217T150000
DTSTAMP:20260422T042541
CREATED:20240416T003010Z
LAST-MODIFIED:20240726T001213Z
UID:10000516-1834408800-1834412400@reacsite.org
SUMMARY:ACERA Board of Retirement
DESCRIPTION:
URL:https://reacsite.org/event/acera-board-of-retirement-8/2028-02-17/
LOCATION:ACERA\, 475 14th Street\, 10th Floor\, Oakland\, CA\, United States
ATTACH;FMTTYPE=image/png:https://reacsite.org/wp-content/uploads/ACERA_Logo.png
END:VEVENT
BEGIN:VEVENT
DTSTART;TZID=America/Los_Angeles:20280301T093000
DTEND;TZID=America/Los_Angeles:20280301T113000
DTSTAMP:20260422T042541
CREATED:20240416T001452Z
LAST-MODIFIED:20240726T000620Z
UID:10000554-1835515800-1835523000@reacsite.org
SUMMARY:ACERA Operations Committee
DESCRIPTION:
URL:https://reacsite.org/event/acera-operations-committee-2/2028-03-01/
LOCATION:ACERA\, 475 14th Street\, 10th Floor\, Oakland\, CA\, United States
ATTACH;FMTTYPE=image/png:https://reacsite.org/wp-content/uploads/ACERA_Logo.png
END:VEVENT
BEGIN:VEVENT
DTSTART;TZID=America/Los_Angeles:20280301T103000
DTEND;TZID=America/Los_Angeles:20280301T113000
DTSTAMP:20260422T042541
CREATED:20240416T002137Z
LAST-MODIFIED:20240726T000329Z
UID:10000461-1835519400-1835523000@reacsite.org
SUMMARY:ACERA Investment Committee
DESCRIPTION:
URL:https://reacsite.org/event/acera-investment-committee-8/2028-03-01/
LOCATION:ACERA\, 475 14th Street\, 10th Floor\, Oakland\, CA\, United States
ATTACH;FMTTYPE=image/png:https://reacsite.org/wp-content/uploads/ACERA_Logo.png
END:VEVENT
BEGIN:VEVENT
DTSTART;TZID=America/Los_Angeles:20280316T140000
DTEND;TZID=America/Los_Angeles:20280316T150000
DTSTAMP:20260422T042541
CREATED:20240416T003010Z
LAST-MODIFIED:20240726T001213Z
UID:10000517-1836828000-1836831600@reacsite.org
SUMMARY:ACERA Board of Retirement
DESCRIPTION:
URL:https://reacsite.org/event/acera-board-of-retirement-8/2028-03-16/
LOCATION:ACERA\, 475 14th Street\, 10th Floor\, Oakland\, CA\, United States
ATTACH;FMTTYPE=image/png:https://reacsite.org/wp-content/uploads/ACERA_Logo.png
END:VEVENT
BEGIN:VEVENT
DTSTART;TZID=America/Los_Angeles:20280405T093000
DTEND;TZID=America/Los_Angeles:20280405T130000
DTSTAMP:20260422T042541
CREATED:20240416T000725Z
LAST-MODIFIED:20240725T212858Z
UID:10000412-1838539800-1838552400@reacsite.org
SUMMARY:ACERA Retirees Committee
DESCRIPTION:
URL:https://reacsite.org/event/acera-retirees-committee-5/2028-04-05/
LOCATION:ACERA\, 475 14th Street\, 10th Floor\, Oakland\, CA\, United States
ATTACH;FMTTYPE=image/png:https://reacsite.org/wp-content/uploads/ACERA_Logo.png
END:VEVENT
BEGIN:VEVENT
DTSTART;TZID=America/Los_Angeles:20280405T103000
DTEND;TZID=America/Los_Angeles:20280405T113000
DTSTAMP:20260422T042541
CREATED:20240416T002137Z
LAST-MODIFIED:20240726T000329Z
UID:10000462-1838543400-1838547000@reacsite.org
SUMMARY:ACERA Investment Committee
DESCRIPTION:
URL:https://reacsite.org/event/acera-investment-committee-8/2028-04-05/
LOCATION:ACERA\, 475 14th Street\, 10th Floor\, Oakland\, CA\, United States
ATTACH;FMTTYPE=image/png:https://reacsite.org/wp-content/uploads/ACERA_Logo.png
END:VEVENT
BEGIN:VEVENT
DTSTART;TZID=America/Los_Angeles:20280420T140000
DTEND;TZID=America/Los_Angeles:20280420T150000
DTSTAMP:20260422T042541
CREATED:20240416T003010Z
LAST-MODIFIED:20240726T001213Z
UID:10000518-1839852000-1839855600@reacsite.org
SUMMARY:ACERA Board of Retirement
DESCRIPTION:
URL:https://reacsite.org/event/acera-board-of-retirement-8/2028-04-20/
LOCATION:ACERA\, 475 14th Street\, 10th Floor\, Oakland\, CA\, United States
ATTACH;FMTTYPE=image/png:https://reacsite.org/wp-content/uploads/ACERA_Logo.png
END:VEVENT
BEGIN:VEVENT
DTSTART;TZID=America/Los_Angeles:20280503T093000
DTEND;TZID=America/Los_Angeles:20280503T113000
DTSTAMP:20260422T042541
CREATED:20240416T001452Z
LAST-MODIFIED:20240726T000620Z
UID:10000555-1840959000-1840966200@reacsite.org
SUMMARY:ACERA Operations Committee
DESCRIPTION:
URL:https://reacsite.org/event/acera-operations-committee-2/2028-05-03/
LOCATION:ACERA\, 475 14th Street\, 10th Floor\, Oakland\, CA\, United States
ATTACH;FMTTYPE=image/png:https://reacsite.org/wp-content/uploads/ACERA_Logo.png
END:VEVENT
BEGIN:VEVENT
DTSTART;TZID=America/Los_Angeles:20280503T103000
DTEND;TZID=America/Los_Angeles:20280503T113000
DTSTAMP:20260422T042541
CREATED:20240416T002137Z
LAST-MODIFIED:20240726T000329Z
UID:10000463-1840962600-1840966200@reacsite.org
SUMMARY:ACERA Investment Committee
DESCRIPTION:
URL:https://reacsite.org/event/acera-investment-committee-8/2028-05-03/
LOCATION:ACERA\, 475 14th Street\, 10th Floor\, Oakland\, CA\, United States
ATTACH;FMTTYPE=image/png:https://reacsite.org/wp-content/uploads/ACERA_Logo.png
END:VEVENT
BEGIN:VEVENT
DTSTART;TZID=America/Los_Angeles:20280518T140000
DTEND;TZID=America/Los_Angeles:20280518T150000
DTSTAMP:20260422T042541
CREATED:20240416T003010Z
LAST-MODIFIED:20240726T001213Z
UID:10000519-1842271200-1842274800@reacsite.org
SUMMARY:ACERA Board of Retirement
DESCRIPTION:
URL:https://reacsite.org/event/acera-board-of-retirement-8/2028-05-18/
LOCATION:ACERA\, 475 14th Street\, 10th Floor\, Oakland\, CA\, United States
ATTACH;FMTTYPE=image/png:https://reacsite.org/wp-content/uploads/ACERA_Logo.png
END:VEVENT
BEGIN:VEVENT
DTSTART;TZID=America/Los_Angeles:20280607T093000
DTEND;TZID=America/Los_Angeles:20280607T130000
DTSTAMP:20260422T042541
CREATED:20240416T000725Z
LAST-MODIFIED:20240725T212858Z
UID:10000413-1843983000-1843995600@reacsite.org
SUMMARY:ACERA Retirees Committee
DESCRIPTION:
URL:https://reacsite.org/event/acera-retirees-committee-5/2028-06-07/
LOCATION:ACERA\, 475 14th Street\, 10th Floor\, Oakland\, CA\, United States
ATTACH;FMTTYPE=image/png:https://reacsite.org/wp-content/uploads/ACERA_Logo.png
END:VEVENT
END:VCALENDAR